BEGIN:VCALENDAR
VERSION:2.0
PRODID:spatie/icalendar-generator
DESCRIPTION:Events from Eloquest Healthcare\, Inc.
X-WR-CALDESC:Events from Eloquest Healthcare\, Inc.
REFRESH-INTERVAL;VALUE=DURATION:PT1440M
X-PUBLISHED-TTL:PT1440M
BEGIN:VTIMEZONE
TZID:America/Detroit
BEGIN:STANDARD
DTSTART:20251102T020000Z
TZOFFSETFROM:-0400
TZOFFSETTO:-0500
END:STANDARD
BEGIN:DAYLIGHT
DTSTART:20260308T020000Z
TZOFFSETFROM:-0500
TZOFFSETTO:-0400
END:DAYLIGHT
END:VTIMEZONE
BEGIN:VTIMEZONE
TZID:UTC
BEGIN:STANDARD
DTSTART:20250725T082043Z
TZOFFSETFROM:+0000
TZOFFSETTO:+0000
END:STANDARD
END:VTIMEZONE
BEGIN:VEVENT
UID:118-97
DTSTAMP:20260421T082043Z
SUMMARY:Cincinnati Chapter AACN 36th Annual Trends in Critical Care &amp;amp\; 
 Leadership
LOCATION:The Jewish Hospital — Education Center 4777 East Galbraith Road 
  Cincinnati OH 45236
ORGANIZER;CN=Dave Faloon:MAILTO:dfaloon@ferndalelabs.com
DTSTART;TZID=America/Detroit;VALUE=DATE:20260410
DTEND;TZID=America/Detroit;VALUE=DATE:20260411
X-ALT-DESC;FMTTYPE=TEXT/HTML:
CATEGORIES:General
URL;VALUE=URI:https://eloquesthealthcare.com/mc-events/cincinnati-chapter-a
 acn-36th-annual-trends-in-critical-care-leadership/
METHOD:PUBLISH
END:VEVENT
END:VCALENDAR