BEGIN:VCALENDAR
VERSION:2.0
PRODID:spatie/icalendar-generator
DESCRIPTION:Events from Eloquest Healthcare\, Inc.
X-WR-CALDESC:Events from Eloquest Healthcare\, Inc.
REFRESH-INTERVAL;VALUE=DURATION:PT1440M
X-PUBLISHED-TTL:PT1440M
BEGIN:VTIMEZONE
TZID:America/Detroit
BEGIN:STANDARD
DTSTART:20251102T020000Z
TZOFFSETFROM:-0400
TZOFFSETTO:-0500
END:STANDARD
BEGIN:DAYLIGHT
DTSTART:20260308T020000Z
TZOFFSETFROM:-0500
TZOFFSETTO:-0400
END:DAYLIGHT
BEGIN:STANDARD
DTSTART:20261101T020000Z
TZOFFSETFROM:-0400
TZOFFSETTO:-0500
END:STANDARD
END:VTIMEZONE
BEGIN:VTIMEZONE
TZID:UTC
BEGIN:STANDARD
DTSTART:20250724T221738Z
TZOFFSETFROM:+0000
TZOFFSETTO:+0000
END:STANDARD
END:VTIMEZONE
BEGIN:VEVENT
UID:136-114
DTSTAMP:20260420T221738Z
SUMMARY:AACN National Teaching Institute (NTI) 2026
LOCATION:
ORGANIZER;CN=Stephanie Wodwaski:MAILTO:swodwaski@eloquesthealthcare.com
DTSTART;TZID=America/Detroit;VALUE=DATE:20260518
DTEND;TZID=America/Detroit;VALUE=DATE:20260521
X-ALT-DESC;FMTTYPE=TEXT/HTML:
CATEGORIES:General
URL;VALUE=URI:https://eloquesthealthcare.com/mc-events/aacn-national-teachi
 ng-institute-nti-2026/
METHOD:PUBLISH
END:VEVENT
END:VCALENDAR