BEGIN:VCALENDAR
VERSION:2.0
PRODID:spatie/icalendar-generator
DESCRIPTION:Events from Eloquest Healthcare\, Inc.
X-WR-CALDESC:Events from Eloquest Healthcare\, Inc.
REFRESH-INTERVAL;VALUE=DURATION:PT1440M
X-PUBLISHED-TTL:PT1440M
BEGIN:VTIMEZONE
TZID:America/Detroit
BEGIN:STANDARD
DTSTART:20251102T020000Z
TZOFFSETFROM:-0400
TZOFFSETTO:-0500
END:STANDARD
BEGIN:DAYLIGHT
DTSTART:20260308T020000Z
TZOFFSETFROM:-0500
TZOFFSETTO:-0400
END:DAYLIGHT
END:VTIMEZONE
BEGIN:VTIMEZONE
TZID:UTC
BEGIN:STANDARD
DTSTART:20250724T223944Z
TZOFFSETFROM:+0000
TZOFFSETTO:+0000
END:STANDARD
END:VTIMEZONE
BEGIN:VEVENT
UID:135-113
DTSTAMP:20260420T223944Z
SUMMARY:Chief Nursing &amp;amp\; Patient Experience Officer Summit
LOCATION:
ORGANIZER;CN=Stephanie Wodwaski:MAILTO:swodwaski@eloquesthealthcare.com
DTSTART;TZID=America/Detroit;VALUE=DATE:20260426
DTEND;TZID=America/Detroit;VALUE=DATE:20260429
X-ALT-DESC;FMTTYPE=TEXT/HTML: April 26-28\, 2026 Hilton Dallas/Rockwall La
 kefront\, Dallas\, TX &amp;nbsp\; https://opalgroup.net/healthcare/chief-nursi
 ng-officer-summit-2026/
CATEGORIES:General
URL;VALUE=URI:https://eloquesthealthcare.com/mc-events/chief-nursing-patien
 t-experience-officer-summit/
METHOD:PUBLISH
END:VEVENT
END:VCALENDAR